BEGIN:VCALENDAR
VERSION:2.0
PRODID:-//Plone.org//NONSGML plone.app.event//EN
X-WR-TIMEZONE:Europe/Madrid
BEGIN:VEVENT
SUMMARY:Concert de bols tibetans
DTSTART;TZID=Europe/Madrid;VALUE=DATE-TIME:20191026T120000
DTEND;TZID=Europe/Madrid;VALUE=DATE-TIME:20191026T130000
DTSTAMP;VALUE=DATE-TIME:20260419T174912Z
UID:c490574d0bdaee6d113f6da6c818ce22
CREATED;VALUE=DATE-TIME:20191026T000000Z
CATEGORIES:Festa
LOCATION:La Clau - c. Alguersuari, 16
ORGANIZER:Banc de Temps
DESCRIPTION:Trobada de Tardor
URL:https://www.santceloni.cat/document.php?id=23769
END:VEVENT
END:VCALENDAR