BEGIN:VCALENDAR
VERSION:2.0
PRODID:-//Plone.org//NONSGML plone.app.event//EN
X-WR-TIMEZONE:Europe/Madrid
BEGIN:VEVENT
SUMMARY:Demències: Abordatge mèdic i tractament cognitiu i conductual del pacient amb demència
DTSTART;TZID=Europe/Madrid;VALUE=DATE-TIME:20191118T150000
DTEND;TZID=Europe/Madrid;VALUE=DATE-TIME:20191118T160000
DTSTAMP;VALUE=DATE-TIME:20260421T071355Z
UID:d05dbacf78d78b4d15c254be75fa9abc
CREATED;VALUE=DATE-TIME:20191118T000000Z
CATEGORIES:Conferència
LOCATION:Sala d'actes Rectoria Vella - Parc de la Rectoria Vella, s/n
ORGANIZER:Hospital de Sant Celoni
COMMENT:Preu: Gratuït
Durada: 1 hora
DESCRIPTION:Cicle de sessions informatives sobre les demències
URL:https://www.santceloni.cat/document.php?id=23770
END:VEVENT
END:VCALENDAR