BEGIN:VCALENDAR
VERSION:2.0
PRODID:-//Plone.org//NONSGML plone.app.event//EN
X-WR-TIMEZONE:Europe/Madrid
BEGIN:VEVENT
SUMMARY:Capvuitada als Esports
DTSTART;TZID=Europe/Madrid;VALUE=DATE-TIME:20191117T100000
DTEND;TZID=Europe/Madrid;VALUE=DATE-TIME:20191117T110000
DTSTAMP;VALUE=DATE-TIME:20260421T160448Z
UID:f3b8a8bfa638a363cf2df7a4b3887de7
CREATED;VALUE=DATE-TIME:20191117T000000Z
CATEGORIES:Infantils
LOCATION:Pàrking del pavelló - c. Esteve Cardelús - Av. Catalunya
ORGANIZER:AV Residencial Esports
COMMENT:Durada: Fins les 13 h
DESCRIPTION:Inflables i activitats infantils
URL:https://www.santceloni.cat/document.php?id=23790
END:VEVENT
END:VCALENDAR