BEGIN:VCALENDAR
VERSION:2.0
PRODID:-//Plone.org//NONSGML plone.app.event//EN
X-WR-TIMEZONE:Europe/Madrid
BEGIN:VEVENT
SUMMARY:Actuació alumnat escola municipal de música i teatre
DTSTART;TZID=Europe/Madrid;VALUE=DATE-TIME:20191128T190000
DTEND;TZID=Europe/Madrid;VALUE=DATE-TIME:20191128T200000
DTSTAMP;VALUE=DATE-TIME:20260421T022344Z
UID:6bff1392c585de2ae73611966c916090
CREATED;VALUE=DATE-TIME:20191128T000000Z
CATEGORIES:Música
LOCATION:Centre Municipal d'Expressió - Sant Josep, 18
ORGANIZER:Escola Municipal de Música i Teatre
COMMENT:Preu: Gratuït
Durada: 45 minuts
URL:https://www.santceloni.cat/document.php?id=23832
END:VEVENT
END:VCALENDAR