BEGIN:VCALENDAR
VERSION:2.0
PRODID:-//Plone.org//NONSGML plone.app.event//EN
X-WR-TIMEZONE:Europe/Madrid
BEGIN:VEVENT
SUMMARY:Recollida de llibres, pel·lícules i música a la Biblioteca de l'Escorxador
DTSTART;TZID=Europe/Madrid;VALUE=DATE-TIME:20191118T173000
DTEND;TZID=Europe/Madrid;VALUE=DATE-TIME:20191118T183000
DTSTAMP;VALUE=DATE-TIME:20260420T235004Z
UID:cac17840da818b887d8046f37a747645
CREATED;VALUE=DATE-TIME:20191118T000000Z
LOCATION:Biblioteca l'Escorxador - Pg. de la Rectoria Vella, 10
COMMENT:Durada: 4 hores
DESCRIPTION:Activitats de La Marató de TV3
URL:https://www.santceloni.cat/document.php?id=23906
END:VEVENT
END:VCALENDAR