BEGIN:VCALENDAR
VERSION:2.0
PRODID:-//Plone.org//NONSGML plone.app.event//EN
X-WR-TIMEZONE:Europe/Madrid
BEGIN:VEVENT
SUMMARY:Cant coral: V Cantada Gent Gran, amb la Coral Veus Amigues de l'Esplai
DTSTART;TZID=Europe/Madrid;VALUE=DATE-TIME:20200229T180000
DTEND;TZID=Europe/Madrid;VALUE=DATE-TIME:20200229T190000
DTSTAMP;VALUE=DATE-TIME:20260421T053625Z
UID:a506d68f94e2cbacb26c2552c3173f3f
CREATED;VALUE=DATE-TIME:20200229T000000Z
CATEGORIES:Música
LOCATION:Teatre Ateneu, Sala Gran - Ctra. Vella, 25
COMMENT:Preu: Gratuït. Es podran fer donatius per Càritas Parroquial Sant Celoni.
Durada: 75 minuts
DESCRIPTION:Programació Teatre Ateneu, gener-juny 2020
URL:https://www.santceloni.cat/document.php?id=24054
END:VEVENT
END:VCALENDAR