BEGIN:VCALENDAR
VERSION:2.0
PRODID:-//Plone.org//NONSGML plone.app.event//EN
X-WR-TIMEZONE:Europe/Madrid
BEGIN:VEVENT
SUMMARY:Teatre musical familiar: Alícia al País de les Meravelles, amb Viu el Teatre
DTSTART;TZID=Europe/Madrid;VALUE=DATE-TIME:20200404T180000
DTEND;TZID=Europe/Madrid;VALUE=DATE-TIME:20200404T190000
DTSTAMP;VALUE=DATE-TIME:20260421T064616Z
UID:50596c57054d8fedbd554617fd18b3f0
CREATED;VALUE=DATE-TIME:20200404T000000Z
CATEGORIES:Infantils,Música,Teatre
LOCATION:Teatre Ateneu, Sala Gran - Ctra. Vella, 25
COMMENT:Preu: General: 12 . Carnet Biblioteca: 10 . Menors 10 anys: 8 .
Durada: 70 minuts
DESCRIPTION:AJORNAT
URL:https://www.santceloni.cat/document.php?id=24065
END:VEVENT
END:VCALENDAR