BEGIN:VCALENDAR
VERSION:2.0
PRODID:-//Plone.org//NONSGML plone.app.event//EN
X-WR-TIMEZONE:Europe/Madrid
BEGIN:VEVENT
SUMMARY:Cinema en VO: Una qüestió de gènere, de Mimi Ledern + sopar col·loqui
DTSTART;TZID=Europe/Madrid;VALUE=DATE-TIME:20200207T203000
DTEND;TZID=Europe/Madrid;VALUE=DATE-TIME:20200207T213000
DTSTAMP;VALUE=DATE-TIME:20260421T184449Z
UID:1e0e7aefe7f9cfe317e4719ea2d48fc5
CREATED;VALUE=DATE-TIME:20200207T000000Z
CATEGORIES:Cinema
LOCATION:Sales Ocine - Ctra. C-35 (Porta de ponent)
COMMENT:Preu: 4,50 
Durada: 120 min.
DESCRIPTION:Programació VOAltrium
URL:https://www.santceloni.cat/document.php?id=24089
END:VEVENT
END:VCALENDAR