BEGIN:VCALENDAR
VERSION:2.0
PRODID:-//Plone.org//NONSGML plone.app.event//EN
X-WR-TIMEZONE:Europe/Madrid
BEGIN:VEVENT
SUMMARY:Cinema en VO: La societat literària i el pastís de pell de patata, de Mike Newell
DTSTART;TZID=Europe/Madrid;VALUE=DATE-TIME:20200221T203000
DTEND;TZID=Europe/Madrid;VALUE=DATE-TIME:20200221T213000
DTSTAMP;VALUE=DATE-TIME:20260421T051816Z
UID:1c87c77cd34a2d3fec610e3557e9aa9c
CREATED;VALUE=DATE-TIME:20200221T000000Z
CATEGORIES:Cinema
LOCATION:Sales Ocine - Ctra. C-35 (Porta de ponent)
COMMENT:Preu: 4,50 
Durada: 124 min.
DESCRIPTION:Programació VOAltrium
URL:https://www.santceloni.cat/document.php?id=24091
END:VEVENT
END:VCALENDAR