BEGIN:VCALENDAR
VERSION:2.0
PRODID:-//Plone.org//NONSGML plone.app.event//EN
X-WR-TIMEZONE:Europe/Madrid
BEGIN:VEVENT
SUMMARY:Taller de ball country
DTSTART;TZID=Europe/Madrid;VALUE=DATE-TIME:20200128T164500
DTEND;TZID=Europe/Madrid;VALUE=DATE-TIME:20200128T174500
DTSTAMP;VALUE=DATE-TIME:20260424T161842Z
UID:744f0cf466a120d8c8c66af1483a2f8d
CREATED;VALUE=DATE-TIME:20200128T000000Z
CATEGORIES:Dansa
LOCATION:Pavelló Municipal d'Esports - Av. Catalunya, s/n
ORGANIZER:Banc de Temps
COMMENT:Preu: Intercanvi de temps
Durada: Una hora
URL:https://www.santceloni.cat/document.php?id=24213
END:VEVENT
END:VCALENDAR