BEGIN:VCALENDAR
VERSION:2.0
PRODID:-//Plone.org//NONSGML plone.app.event//EN
X-WR-TIMEZONE:Europe/Madrid
BEGIN:VEVENT
SUMMARY:Campanya de donació de Sang
DTSTART;TZID=Europe/Madrid;VALUE=DATE-TIME:20200228T170000
DTEND;TZID=Europe/Madrid;VALUE=DATE-TIME:20200228T180000
DTSTAMP;VALUE=DATE-TIME:20260423T122252Z
UID:1e6cf199b285ba098dca40d6338247d1
CREATED;VALUE=DATE-TIME:20200228T000000Z
LOCATION:Can Ramis - Pl. de la Vila, 25
ORGANIZER:Associació de donants de Sang
COMMENT:Durada: tarda
DESCRIPTION:Recapte de Sang
URL:https://www.santceloni.cat/document.php?id=24214
END:VEVENT
END:VCALENDAR