BEGIN:VCALENDAR
VERSION:2.0
PRODID:-//Plone.org//NONSGML plone.app.event//EN
X-WR-TIMEZONE:Europe/Madrid
BEGIN:VEVENT
SUMMARY:Nova sessió Teatre: Bona gent, amb Teatre de Guerrilla a les 17.30 h
DTSTART;TZID=Europe/Madrid;VALUE=DATE-TIME:20200215T173000
DTEND;TZID=Europe/Madrid;VALUE=DATE-TIME:20200215T183000
DTSTAMP;VALUE=DATE-TIME:20260421T065510Z
UID:60ba5128b45e808ca98302492b04d738
CREATED;VALUE=DATE-TIME:20200215T000000Z
CATEGORIES:Teatre
LOCATION:Teatre Ateneu, Sala Gran - Ctra. Vella, 25
COMMENT:Preu: General: 20 . Carnet Biblioteca: 18 . Majors 65 anys: 15 . Butaca jove (menors de 30 anys): 10 .
Durada: 105 minuts
DESCRIPTION:Programació Teatre Ateneu, gener-juny 2020
URL:https://www.santceloni.cat/document.php?id=24252
END:VEVENT
END:VCALENDAR