BEGIN:VCALENDAR
VERSION:2.0
PRODID:-//Plone.org//NONSGML plone.app.event//EN
X-WR-TIMEZONE:Europe/Madrid
BEGIN:VEVENT
SUMMARY:Documental: Les Resilients
DTSTART;TZID=Europe/Madrid;VALUE=DATE-TIME:20200131T193000
DTEND;TZID=Europe/Madrid;VALUE=DATE-TIME:20200131T203000
DTSTAMP;VALUE=DATE-TIME:20260424T174854Z
UID:7bb5701fcb694d499293901ef5503c69
CREATED;VALUE=DATE-TIME:20200131T000000Z
CATEGORIES:Cinema
LOCATION:Teatre Ateneu, Sala Petita - Ctra. Vella, 25
ORGANIZER:La Clau i Gita de Bruixa
COMMENT:Preu: 3 i gratuït pels socis de La Clau
DESCRIPTION:Projecció i col·loqui
URL:https://www.santceloni.cat/document.php?id=24272
END:VEVENT
END:VCALENDAR