BEGIN:VCALENDAR
VERSION:2.0
PRODID:-//Plone.org//NONSGML plone.app.event//EN
X-WR-TIMEZONE:Europe/Madrid
BEGIN:VEVENT
SUMMARY:La Gran Correguda amb la Colla de Diables
DTSTART;TZID=Europe/Madrid;VALUE=DATE-TIME:20200118T170000
DTEND;TZID=Europe/Madrid;VALUE=DATE-TIME:20200118T180000
DTSTAMP;VALUE=DATE-TIME:20260424T175521Z
UID:9cadb7d4c6d5e9301cb939278df67567
CREATED;VALUE=DATE-TIME:20200118T000000Z
CATEGORIES:Esports,Infantils
LOCATION:Plaça de la Vila (sortida i arribada) - Plaça de la Vila
ORGANIZER:Colla de Diables
COMMENT:Preu: Gratuït
URL:https://www.santceloni.cat/document.php?id=24276
END:VEVENT
END:VCALENDAR