BEGIN:VCALENDAR
VERSION:2.0
PRODID:-//Plone.org//NONSGML plone.app.event//EN
X-WR-TIMEZONE:Europe/Madrid
BEGIN:VEVENT
SUMMARY:Mobilitat internacional: sessió informativa oberta als joves
DTSTART;TZID=Europe/Madrid;VALUE=DATE-TIME:20200128T173000
DTEND;TZID=Europe/Madrid;VALUE=DATE-TIME:20200128T183000
DTSTAMP;VALUE=DATE-TIME:20260421T071340Z
UID:b28dfb5ac11f7d3064a99bdbbfd44ecf
CREATED;VALUE=DATE-TIME:20200128T000000Z
CATEGORIES:Conferència
LOCATION:Sax Sala - Montserrat, 28
URL:https://www.santceloni.cat/document.php?id=24320
END:VEVENT
END:VCALENDAR