BEGIN:VCALENDAR
VERSION:2.0
PRODID:-//Plone.org//NONSGML plone.app.event//EN
X-WR-TIMEZONE:Europe/Madrid
BEGIN:VEVENT
SUMMARY:Calçotada Popular La Batllòria Extrem
DTSTART;TZID=Europe/Madrid;VALUE=DATE-TIME:20200307T130000
DTEND;TZID=Europe/Madrid;VALUE=DATE-TIME:20200307T140000
DTSTAMP;VALUE=DATE-TIME:20260421T024915Z
UID:db692b6acac1c113ace4dd5310153607
CREATED;VALUE=DATE-TIME:20200307T000000Z
CATEGORIES:Festa
LOCATION:Plaça de l'Església (la Batllòria) - Plaça de l'Església (la Batllòria)
ORGANIZER:La Batllòria Extrem
COMMENT:Preu: 12&euro;
DESCRIPTION:a la Batllòria
URL:https://www.santceloni.cat/document.php?id=24346
END:VEVENT
END:VCALENDAR