BEGIN:VCALENDAR
VERSION:2.0
PRODID:-//Plone.org//NONSGML plone.app.event//EN
X-WR-TIMEZONE:Europe/Madrid
BEGIN:VEVENT
SUMMARY:Laboratori de Lectura: Nenes, noies i dones. ACTE AJORNAT
DTSTART;TZID=Europe/Madrid;VALUE=DATE-TIME:20200314T110000
DTEND;TZID=Europe/Madrid;VALUE=DATE-TIME:20200314T120000
DTSTAMP;VALUE=DATE-TIME:20260421T035502Z
UID:9e96f894cee17587e69625bddc7c6890
CREATED;VALUE=DATE-TIME:20200314T000000Z
CATEGORIES:Infantils
LOCATION:Biblioteca l'Escorxador - Pg. de la Rectoria Vella, 10
DESCRIPTION:Cal inscripció prèvia
URL:https://www.santceloni.cat/document.php?id=24426
END:VEVENT
END:VCALENDAR