BEGIN:VCALENDAR
VERSION:2.0
PRODID:-//Plone.org//NONSGML plone.app.event//EN
X-WR-TIMEZONE:Europe/Madrid
BEGIN:VEVENT
SUMMARY:Els estranys, de Raül Garrigasait  ANUL·LAT
DTSTART;TZID=Europe/Madrid;VALUE=DATE-TIME:20200331T190000
DTEND;TZID=Europe/Madrid;VALUE=DATE-TIME:20200331T200000
DTSTAMP;VALUE=DATE-TIME:20260421T033005Z
UID:54d0a79b5c1db3aa5283ee59847590a1
CREATED;VALUE=DATE-TIME:20200331T000000Z
CATEGORIES:Literatura
LOCATION:Biblioteca l'Escorxador - Pg. de la Rectoria Vella, 10
DESCRIPTION:Club de lectura l'Escorxador
URL:https://www.santceloni.cat/document.php?id=24432
END:VEVENT
END:VCALENDAR