BEGIN:VCALENDAR
VERSION:2.0
PRODID:-//Plone.org//NONSGML plone.app.event//EN
X-WR-TIMEZONE:Europe/Madrid
BEGIN:VEVENT
SUMMARY:III Primavera Coral. AJORNAT
DTSTART;TZID=Europe/Madrid;VALUE=DATE-TIME:20200523T190000
DTEND;TZID=Europe/Madrid;VALUE=DATE-TIME:20200523T200000
DTSTAMP;VALUE=DATE-TIME:20260421T051842Z
UID:6e2bcfb337da634ac90c7f42a9173f67
CREATED;VALUE=DATE-TIME:20200523T000000Z
CATEGORIES:Música
LOCATION:Unió Batllorienca - c. Breda, 2
ORGANIZER:Coral Briançó
COMMENT:Preu: 0 &euro;
Durada: de les 19 h a les 20 h.
DESCRIPTION:Concert de Primavera
URL:https://www.santceloni.cat/document.php?id=24443
END:VEVENT
END:VCALENDAR