BEGIN:VCALENDAR
VERSION:2.0
PRODID:-//Plone.org//NONSGML plone.app.event//EN
X-WR-TIMEZONE:Europe/Madrid
BEGIN:VEVENT
SUMMARY:Exposició i venda de manualitats a benefici de Catalunya contra el Càncer
DTSTART;TZID=Europe/Madrid;VALUE=DATE-TIME:20200307T190000
DTEND;TZID=Europe/Madrid;VALUE=DATE-TIME:20200307T200000
DTSTAMP;VALUE=DATE-TIME:20260421T024651Z
UID:ff8aeab362d6654644b2a3da315e089d
CREATED;VALUE=DATE-TIME:20200307T000000Z
CATEGORIES:Exposició
LOCATION:Can Ramis - Pl. de la Vila, 25
ORGANIZER:Associació Catalunya contra el Càncer
URL:https://www.santceloni.cat/document.php?id=24455
END:VEVENT
END:VCALENDAR