BEGIN:VCALENDAR
VERSION:2.0
PRODID:-//Plone.org//NONSGML plone.app.event//EN
X-WR-TIMEZONE:Europe/Madrid
BEGIN:VEVENT
SUMMARY:Xerrada: Com educar els nostres fills pels reptes del futur? ANUL·LAT
DTSTART;TZID=Europe/Madrid;VALUE=DATE-TIME:20200402T000000
DTEND;TZID=Europe/Madrid;VALUE=DATE-TIME:20200402T010000
DTSTAMP;VALUE=DATE-TIME:20260421T051659Z
UID:b2431a309e87a12b59ce914ef1479489
CREATED;VALUE=DATE-TIME:20200402T000000Z
CATEGORIES:Conferència
LOCATION:Sala Bernat Martorell de Can Ramis - Pl. de la Vila, 25
ORGANIZER:AMPA Escola Avet Roig, AMPA Col.legi Cor de Maria, AMPA Escola Josep Pallerola, AMIPA Col.legi La Salle, AFA Escola Soler de Vilardell, AMPA Escola Montnegre, AMPA Institut Escola La Tordera, AMPA IES Baix Montseny,AMPA el Blauet i Biblioteca l´Escorxador
COMMENT:Preu: gratuït
Durada: 19 a 20h
DESCRIPTION:Jordi Collet: Sociòleg de l'Educació
URL:https://www.santceloni.cat/document.php?id=24482
END:VEVENT
END:VCALENDAR