BEGIN:VCALENDAR
VERSION:2.0
PRODID:-//Plone.org//NONSGML plone.app.event//EN
X-WR-TIMEZONE:Europe/Madrid
BEGIN:VEVENT
SUMMARY:Calçotada Popular. ACTE ANUL·LAT
DTSTART;TZID=Europe/Madrid;VALUE=DATE-TIME:20200322T133000
DTEND;TZID=Europe/Madrid;VALUE=DATE-TIME:20200322T143000
DTSTAMP;VALUE=DATE-TIME:20260421T024635Z
UID:c643677c2d9951d16a2bb515be135d17
CREATED;VALUE=DATE-TIME:20200322T000000Z
CATEGORIES:Festa
LOCATION:Institut Escola Josep Pallerola - Consolat de Mar, s/n
ORGANIZER:Junts per Catalunya - Sant Celoni i la Batllòria i Joves per Catalunya
COMMENT:Preu: 10 &euro;
DESCRIPTION:Calçotada Popular amb Gemma Geis i Raül Garcia
URL:https://www.santceloni.cat/document.php?id=24486
END:VEVENT
END:VCALENDAR