BEGIN:VCALENDAR
VERSION:2.0
PRODID:-//Plone.org//NONSGML plone.app.event//EN
X-WR-TIMEZONE:Europe/Madrid
BEGIN:VEVENT
SUMMARY:Zumba: Balla per carregar energia, a la Batllòria
DTSTART;TZID=Europe/Madrid;VALUE=DATE-TIME:20200817T183000
DTEND;TZID=Europe/Madrid;VALUE=DATE-TIME:20200817T193000
DTSTAMP;VALUE=DATE-TIME:20260422T004917Z
UID:612b11898e989920a9c6e0a1636b152e
CREATED;VALUE=DATE-TIME:20200817T000000Z
CATEGORIES:Esports
LOCATION:Pati de l'Escola Montnegre (la Batllòria)
COMMENT:Preu: Gratuït
Durada: 1 hora
URL:https://www.santceloni.cat/document.php?id=25317
END:VEVENT
END:VCALENDAR