BEGIN:VCALENDAR
VERSION:2.0
PRODID:-//Plone.org//NONSGML plone.app.event//EN
X-WR-TIMEZONE:Europe/Madrid
BEGIN:VEVENT
SUMMARY:Estiraments, meditació i relaxació: Treballa el teu interior (per a totes les edats)
DTSTART;TZID=Europe/Madrid;VALUE=DATE-TIME:20200811T180000
DTEND;TZID=Europe/Madrid;VALUE=DATE-TIME:20200811T190000
DTSTAMP;VALUE=DATE-TIME:20260422T112042Z
UID:6a2e390482ed7cd7729878c3c5f53315
CREATED;VALUE=DATE-TIME:20200811T000000Z
LOCATION:Pista esportiva de les Borrelles
COMMENT:Preu: Gratuït
Durada: 1 hora
URL:https://www.santceloni.cat/document.php?id=25329
END:VEVENT
END:VCALENDAR