BEGIN:VCALENDAR
VERSION:2.0
PRODID:-//Plone.org//NONSGML plone.app.event//EN
X-WR-TIMEZONE:Europe/Madrid
BEGIN:VEVENT
SUMMARY:Torneig medieval de tir amb arc. ACTE ANUL·LAT
DTSTART;TZID=Europe/Madrid;VALUE=DATE-TIME:20200906T110000
DTEND;TZID=Europe/Madrid;VALUE=DATE-TIME:20200906T120000
DTSTAMP;VALUE=DATE-TIME:20260424T091802Z
UID:d5421fc5c7bdd20dea7cd321a1f815e5
CREATED;VALUE=DATE-TIME:20200906T000000Z
CATEGORIES:Esports
LOCATION:Can Sans
ORGANIZER:Arc Sant Celoni
DESCRIPTION:Festa Major 2020
URL:https://www.santceloni.cat/document.php?id=25703
END:VEVENT
END:VCALENDAR