BEGIN:VCALENDAR
VERSION:2.0
PRODID:-//Plone.org//NONSGML plone.app.event//EN
X-WR-TIMEZONE:Europe/Madrid
BEGIN:VEVENT
SUMMARY:Conferència virtual: Relacions amb el clima. Emergència climàtica i pandèmica, amb Tomàs Molina
DTSTART;TZID=Europe/Madrid;VALUE=DATE-TIME:20201021T120000
DTEND;TZID=Europe/Madrid;VALUE=DATE-TIME:20201021T130000
DTSTAMP;VALUE=DATE-TIME:20260422T225541Z
UID:12d1ca0a741122740ac511b6f0783956
CREATED;VALUE=DATE-TIME:20201021T000000Z
CATEGORIES:Conferència
LOCATION:En línia
DESCRIPTION:VI Setmana del Bosc 2020
URL:https://www.santceloni.cat/document.php?id=25921
END:VEVENT
END:VCALENDAR