BEGIN:VCALENDAR
VERSION:2.0
PRODID:-//Plone.org//NONSGML plone.app.event//EN
X-WR-TIMEZONE:Europe/Madrid
BEGIN:VEVENT
SUMMARY:Presentació del llibre La sombra del arco iris, de Guillem Gomis Ochoa
DTSTART;TZID=Europe/Madrid;VALUE=DATE-TIME:20201107T120000
DTEND;TZID=Europe/Madrid;VALUE=DATE-TIME:20201107T130000
DTSTAMP;VALUE=DATE-TIME:20260423T141642Z
UID:5a555363b371e560aa84e7f01ff40e28
CREATED;VALUE=DATE-TIME:20201107T000000Z
CATEGORIES:Literatura
LOCATION:Teatre Ateneu, Sala Petita - Ctra. Vella, 25
DESCRIPTION:ACTIVITAT POSPOSADA
URL:https://www.santceloni.cat/document.php?id=25985
END:VEVENT
END:VCALENDAR