BEGIN:VCALENDAR
VERSION:2.0
PRODID:-//Plone.org//NONSGML plone.app.event//EN
X-WR-TIMEZONE:Europe/Madrid
BEGIN:VEVENT
SUMMARY:Circ de Nadal: UduL, amb Los Galindos (aforament limitat)
DTSTART;TZID=Europe/Madrid;VALUE=DATE-TIME:20210102T190000
DTEND;TZID=Europe/Madrid;VALUE=DATE-TIME:20210102T200000
DTSTAMP;VALUE=DATE-TIME:20260423T100105Z
UID:cc17d646cb473556bb7efa2b60c4949d
CREATED;VALUE=DATE-TIME:20210102T000000Z
CATEGORIES:Teatre
LOCATION:Plaça de la Biblioteca - Plaça de la Biblioteca
COMMENT:Preu: 8  (preu únic)
Durada: 60 minuts
URL:https://www.santceloni.cat/document.php?id=26253
END:VEVENT
END:VCALENDAR