BEGIN:VCALENDAR
VERSION:2.0
PRODID:-//Plone.org//NONSGML plone.app.event//EN
X-WR-TIMEZONE:Europe/Madrid
BEGIN:VEVENT
SUMMARY:Hora del conte:  Contes emplomats. Per Instagram Live
DTSTART;TZID=Europe/Madrid;VALUE=DATE-TIME:20210220T113000
DTEND;TZID=Europe/Madrid;VALUE=DATE-TIME:20210220T123000
DTSTAMP;VALUE=DATE-TIME:20260423T031036Z
UID:fd24561074b98e75ad2fdc4f5845b7b5
CREATED;VALUE=DATE-TIME:20210220T000000Z
CATEGORIES:Infantils
LOCATION:Biblioteca l'Escorxador - Pg. de la Rectoria Vella, 10
DESCRIPTION:ACTIVITAT VIRTUAL
URL:https://www.santceloni.cat/document.php?id=26327
END:VEVENT
END:VCALENDAR