BEGIN:VCALENDAR
VERSION:2.0
PRODID:-//Plone.org//NONSGML plone.app.event//EN
X-WR-TIMEZONE:Europe/Madrid
BEGIN:VEVENT
SUMMARY:Dansa - Km 0: 2n Festival Dia Internacional del Flamenc AJORNAT AL 19 DE JUNY
DTSTART;TZID=Europe/Madrid;VALUE=DATE-TIME:20210220T190000
DTEND;TZID=Europe/Madrid;VALUE=DATE-TIME:20210220T200000
DTSTAMP;VALUE=DATE-TIME:20260423T031108Z
UID:9f0b7d47d8d671bf98f810aa6e3110d6
CREATED;VALUE=DATE-TIME:20210220T000000Z
CATEGORIES:Dansa
LOCATION:Teatre Ateneu, Sala Gran - Germà Emilià, s/n
COMMENT:Preu: 10 &euro;
Durada: 90 min.
DESCRIPTION:Programació Teatre Ateneu febrer-maig 2021
URL:https://www.santceloni.cat/document.php?id=26349
END:VEVENT
END:VCALENDAR