BEGIN:VCALENDAR
VERSION:2.0
PRODID:-//Plone.org//NONSGML plone.app.event//EN
X-WR-TIMEZONE:Europe/Madrid
BEGIN:VEVENT
SUMMARY:Teatre GPS: Cosas que se olvidan fácilmente, amb la Cia. Xavier Bobés
DTSTART;TZID=Europe/Madrid;VALUE=DATE-TIME:20210228T120000
DTEND;TZID=Europe/Madrid;VALUE=DATE-TIME:20210228T130000
DTSTAMP;VALUE=DATE-TIME:20260423T113614Z
UID:153f832150b8eb8490b549198e751196
CREATED;VALUE=DATE-TIME:20210228T000000Z
CATEGORIES:Teatre
LOCATION:Teatre Ateneu, Sala Gran - Sant Josep, 18
COMMENT:Preu: General: 10 . Majors de 65 anys: 8 . Butaca jove (menors de 30 anys): 5 .
Durada: 75 min.
DESCRIPTION:Programació Teatre Ateneu febrer-maig 2021
URL:https://www.santceloni.cat/document.php?id=26352
END:VEVENT
END:VCALENDAR