BEGIN:VCALENDAR
VERSION:2.0
PRODID:-//Plone.org//NONSGML plone.app.event//EN
X-WR-TIMEZONE:Europe/Madrid
BEGIN:VEVENT
SUMMARY:Cinefórum LGBTIQ+
DTSTART;TZID=Europe/Madrid;VALUE=DATE-TIME:20210219T180000
DTEND;TZID=Europe/Madrid;VALUE=DATE-TIME:20210219T190000
DTSTAMP;VALUE=DATE-TIME:20260423T155908Z
UID:04231d710f693657c935a0ca82336b4b
CREATED;VALUE=DATE-TIME:20210219T000000Z
CATEGORIES:Cinema,Conferència
LOCATION:Teatre Ateneu, Sala Petita - Germà Emilià, s/n
ORGANIZER:Col&bull;lectiu LGBTIQ+ Baix Montseny
COMMENT:Durada: de 18:00 a 21:00
DESCRIPTION:Per la visibilitat i la xarxa del col·lectiu al Baix Montseny
URL:https://www.santceloni.cat/document.php?id=26505
END:VEVENT
END:VCALENDAR