BEGIN:VCALENDAR
VERSION:2.0
PRODID:-//Plone.org//NONSGML plone.app.event//EN
X-WR-TIMEZONE:Europe/Madrid
BEGIN:VEVENT
SUMMARY:Jornada de Portes Obertes a l'Institut Escola Pallerola
DTSTART;TZID=Europe/Madrid;VALUE=DATE-TIME:20210227T100000
DTEND;TZID=Europe/Madrid;VALUE=DATE-TIME:20210227T110000
DTSTAMP;VALUE=DATE-TIME:20260423T025432Z
UID:794364ea3a624522377c3848cee6b80b
CREATED;VALUE=DATE-TIME:20210227T000000Z
LOCATION:Escola Josep Pallerola - Consolat de Mar, s/n
COMMENT:Durada: De 10 a 14 h
DESCRIPTION:Cal cita prèvia
URL:https://www.santceloni.cat/document.php?id=26521
END:VEVENT
END:VCALENDAR