BEGIN:VCALENDAR
VERSION:2.0
PRODID:-//Plone.org//NONSGML plone.app.event//EN
X-WR-TIMEZONE:Europe/Madrid
BEGIN:VEVENT
SUMMARY:Concert i Ball
DTSTART;TZID=Europe/Madrid;VALUE=DATE-TIME:20081213T220000
DTEND;TZID=Europe/Madrid;VALUE=DATE-TIME:20081213T230000
DTSTAMP;VALUE=DATE-TIME:20260422T042144Z
UID:39b046a3c8006aa00912cd739346561f
CREATED;VALUE=DATE-TIME:20081213T000000Z
LOCATION:Sala gran de l'Ateneu - Espais_Sant_Celoni_05
DESCRIPTION:a càrrec de l'Orquestra Selvatana
URL:https://www.santceloni.cat/document.php?id=2672
END:VEVENT
END:VCALENDAR