BEGIN:VCALENDAR
VERSION:2.0
PRODID:-//Plone.org//NONSGML plone.app.event//EN
X-WR-TIMEZONE:Europe/Madrid
BEGIN:VEVENT
SUMMARY:Concert: Corcs Drum & Organ
DTSTART;TZID=Europe/Madrid;VALUE=DATE-TIME:20210515T120000
DTEND;TZID=Europe/Madrid;VALUE=DATE-TIME:20210515T130000
DTSTAMP;VALUE=DATE-TIME:20260423T131621Z
UID:b25796ded156c0eea77464a40ea0e93f
CREATED;VALUE=DATE-TIME:20210515T000000Z
CATEGORIES:Música
LOCATION:Jardins Rectoria Vella - Parc de la Rectoria Vella, s/n
ORGANIZER:La Clau que obri tots els panys
COMMENT:Preu: 3 &euro; (Socis de La Clau: entrada gratuïta)
Durada: 90 min.
DESCRIPTION:Cicle de concerts de primavera maig-juny 2021
URL:https://www.santceloni.cat/document.php?id=26816
END:VEVENT
END:VCALENDAR