BEGIN:VCALENDAR
VERSION:2.0
PRODID:-//Plone.org//NONSGML plone.app.event//EN
X-WR-TIMEZONE:Europe/Madrid
BEGIN:VEVENT
SUMMARY:HORA DEL CONTE a la biblioteca de la Batllòria
DTSTART;TZID=Europe/Madrid;VALUE=DATE-TIME:20080208T180000
DTEND;TZID=Europe/Madrid;VALUE=DATE-TIME:20080208T190000
DTSTAMP;VALUE=DATE-TIME:20260422T162656Z
UID:4274d2149b96602243a55296ab1b7f6d
CREATED;VALUE=DATE-TIME:20080208T000000Z
LOCATION:Biblioteca de la Batllòria
ORGANIZER:Biblioteca l'Escorxador
DESCRIPTION:KA KE KI Kontes amb Perleta & els mitjons (Mireia Peña)
URL:https://www.santceloni.cat/document.php?id=2690
END:VEVENT
END:VCALENDAR