BEGIN:VCALENDAR
VERSION:2.0
PRODID:-//Plone.org//NONSGML plone.app.event//EN
X-WR-TIMEZONE:Europe/Madrid
BEGIN:VEVENT
SUMMARY:Inauguració de l'exposició 25è Concurs Sant Jordi de Fotografia
DTSTART;TZID=Europe/Madrid;VALUE=DATE-TIME:20211008T200000
DTEND;TZID=Europe/Madrid;VALUE=DATE-TIME:20211008T210000
DTSTAMP;VALUE=DATE-TIME:20260419T213024Z
UID:4d60bdb053f8daeb92257cbad33bc5a3
CREATED;VALUE=DATE-TIME:20211008T000000Z
CATEGORIES:Exposició
LOCATION:Sala Bernat Martorell de Can Ramis - Pl. de la Vila, 25
ORGANIZER:Centre Excursionista Sant Celoni
COMMENT:Preu: Gratuït
Durada: 1 hora
URL:https://www.santceloni.cat/document.php?id=26938
END:VEVENT
END:VCALENDAR