BEGIN:VCALENDAR
VERSION:2.0
PRODID:-//Plone.org//NONSGML plone.app.event//EN
X-WR-TIMEZONE:Europe/Madrid
BEGIN:VEVENT
SUMMARY:Zumba. Activem l'estiu amb esports a l'aire lliure
DTSTART;TZID=Europe/Madrid;VALUE=DATE-TIME:20210714T190000
DTEND;TZID=Europe/Madrid;VALUE=DATE-TIME:20210714T200000
DTSTAMP;VALUE=DATE-TIME:20260422T101646Z
UID:304bea1a2f417f7feedfb016ea033354
CREATED;VALUE=DATE-TIME:20210714T000000Z
CATEGORIES:Esports
LOCATION:Escola Montnegre (la Batllòria) - Escoles, 2, 08476 La Batllòria
COMMENT:Preu: Gratuït
DESCRIPTION:Cal inscripció prèvia
URL:https://www.santceloni.cat/document.php?id=27015
END:VEVENT
END:VCALENDAR