BEGIN:VCALENDAR
VERSION:2.0
PRODID:-//Plone.org//NONSGML plone.app.event//EN
X-WR-TIMEZONE:Europe/Madrid
BEGIN:VEVENT
SUMMARY:Activitat d'aigua: Inflables
DTSTART;TZID=Europe/Madrid;VALUE=DATE-TIME:20210703T160000
DTEND;TZID=Europe/Madrid;VALUE=DATE-TIME:20210703T170000
DTSTAMP;VALUE=DATE-TIME:20260422T100933Z
UID:362be43d7bd29e1f197b180fcbce690a
CREATED;VALUE=DATE-TIME:20210703T000000Z
CATEGORIES:Infantils
LOCATION:Camp Municipal d'esports - Pg. dels Esports, s/n
COMMENT:Preu: Gratuït
Durada: 3 hores
DESCRIPTION:Cal inscripció prèvia
URL:https://www.santceloni.cat/document.php?id=27055
END:VEVENT
END:VCALENDAR