BEGIN:VCALENDAR
VERSION:2.0
PRODID:-//Plone.org//NONSGML plone.app.event//EN
X-WR-TIMEZONE:Europe/Madrid
BEGIN:VEVENT
SUMMARY:Concerts de colles de Senys i Negres. Cal inscripció prèvia
DTSTART;TZID=Europe/Madrid;VALUE=DATE-TIME:20210902T200000
DTEND;TZID=Europe/Madrid;VALUE=DATE-TIME:20210902T210000
DTSTAMP;VALUE=DATE-TIME:20260419T195642Z
UID:d75de426a1c01a89e6066338b80ef221
CREATED;VALUE=DATE-TIME:20210902T000000Z
CATEGORIES:Festa,Música
LOCATION:Pista municipal d'atletisme - Ctra. Campins, km. 1
DESCRIPTION:Festa Major 2021
URL:https://www.santceloni.cat/document.php?id=27229
END:VEVENT
END:VCALENDAR