BEGIN:VCALENDAR
VERSION:2.0
PRODID:-//Plone.org//NONSGML plone.app.event//EN
X-WR-TIMEZONE:Europe/Madrid
BEGIN:VEVENT
SUMMARY:Hora del conte La nena del fanalet, amb la Cia Patawa
DTSTART;TZID=Europe/Madrid;VALUE=DATE-TIME:20211120T170000
DTEND;TZID=Europe/Madrid;VALUE=DATE-TIME:20211120T180000
DTSTAMP;VALUE=DATE-TIME:20260424T144813Z
UID:772fc65518c70203fcaed40454487310
CREATED;VALUE=DATE-TIME:20211120T000000Z
CATEGORIES:Infantils
LOCATION:Unió Batllorienca - c. Breda, 2
COMMENT:Preu: Gratuït
DESCRIPTION:Programació Tardor de la Batllòria
URL:https://www.santceloni.cat/document.php?id=27551
END:VEVENT
END:VCALENDAR