BEGIN:VCALENDAR
VERSION:2.0
PRODID:-//Plone.org//NONSGML plone.app.event//EN
X-WR-TIMEZONE:Europe/Madrid
BEGIN:VEVENT
SUMMARY:Bibliolab. Taller d'energia solar
DTSTART;TZID=Europe/Madrid;VALUE=DATE-TIME:20211113T110000
DTEND;TZID=Europe/Madrid;VALUE=DATE-TIME:20211113T120000
DTSTAMP;VALUE=DATE-TIME:20260424T150220Z
UID:405ba06df2fa8a3b86ab51db40c5ec9a
CREATED;VALUE=DATE-TIME:20211113T000000Z
CATEGORIES:Infantils
LOCATION:Biblioteca l'Escorxador - Pg. de la Rectoria Vella, 10
DESCRIPTION:Cal inscripció prèvia.
URL:https://www.santceloni.cat/document.php?id=27575
END:VEVENT
END:VCALENDAR