BEGIN:VCALENDAR
VERSION:2.0
PRODID:-//Plone.org//NONSGML plone.app.event//EN
X-WR-TIMEZONE:Europe/Madrid
BEGIN:VEVENT
SUMMARY:Bibliolab. Toca-toca, coneguem els amfíbis i rèptils.
DTSTART;TZID=Europe/Madrid;VALUE=DATE-TIME:20211127T110000
DTEND;TZID=Europe/Madrid;VALUE=DATE-TIME:20211127T120000
DTSTAMP;VALUE=DATE-TIME:20260419T212711Z
UID:08a8f04b499cd1fa8d231b79bef91bd7
CREATED;VALUE=DATE-TIME:20211127T000000Z
CATEGORIES:Infantils
LOCATION:Biblioteca l'Escorxador - Pg. de la Rectoria Vella, 10
DESCRIPTION:Cal inscripció prèvia
URL:https://www.santceloni.cat/document.php?id=27576
END:VEVENT
END:VCALENDAR