BEGIN:VCALENDAR
VERSION:2.0
PRODID:-//Plone.org//NONSGML plone.app.event//EN
X-WR-TIMEZONE:Europe/Madrid
BEGIN:VEVENT
SUMMARY:Festivitat de Sant Martí a l'Església de Sant Martí de Montnegre
DTSTART;TZID=Europe/Madrid;VALUE=DATE-TIME:20211114T110000
DTEND;TZID=Europe/Madrid;VALUE=DATE-TIME:20211114T120000
DTSTAMP;VALUE=DATE-TIME:20260424T145408Z
UID:123de6d46d0a558966630f319774207a
CREATED;VALUE=DATE-TIME:20211114T000000Z
CATEGORIES:Música
LOCATION:Església de Sant Martí de Montnegre
URL:https://www.santceloni.cat/document.php?id=27597
END:VEVENT
END:VCALENDAR