BEGIN:VCALENDAR
VERSION:2.0
PRODID:-//Plone.org//NONSGML plone.app.event//EN
X-WR-TIMEZONE:Europe/Madrid
BEGIN:VEVENT
SUMMARY:Teatre Km0: Art amb Trocateatre
DTSTART;TZID=Europe/Madrid;VALUE=DATE-TIME:20220514T200000
DTEND;TZID=Europe/Madrid;VALUE=DATE-TIME:20220514T210000
DTSTAMP;VALUE=DATE-TIME:20260422T165147Z
UID:4530786d2280a3a8f9e452d9a417a16b
CREATED;VALUE=DATE-TIME:20220514T000000Z
CATEGORIES:Teatre
LOCATION:Teatre Ateneu, Sala Lluís Giró - Germà Emilià, s/n
COMMENT:Preu: 8 
Durada: 70 minuts
DESCRIPTION:Programació Teatre Ateneu
URL:https://www.santceloni.cat/document.php?id=27900
END:VEVENT
END:VCALENDAR