BEGIN:VCALENDAR
VERSION:2.0
PRODID:-//Plone.org//NONSGML plone.app.event//EN
X-WR-TIMEZONE:Europe/Madrid
BEGIN:VEVENT
SUMMARY:Teatre: Fragile 2.0 amb LaBú Teatre
DTSTART;TZID=Europe/Madrid;VALUE=DATE-TIME:20220604T190000
DTEND;TZID=Europe/Madrid;VALUE=DATE-TIME:20220604T200000
DTSTAMP;VALUE=DATE-TIME:20260425T132709Z
UID:86ae776c777f5e48501dbd861d156339
CREATED;VALUE=DATE-TIME:20220604T000000Z
CATEGORIES:Teatre
LOCATION:Teatre Ateneu, Sala Gran - Germà Emilià, s/n
COMMENT:Preu: General: 10 . Majors de 65 anys: 8. "Butaca jove" (menors de 30 anys): 5 
Durada: 55 minuts
DESCRIPTION:Programació Teatre Ateneu
URL:https://www.santceloni.cat/document.php?id=27905
END:VEVENT
END:VCALENDAR