BEGIN:VCALENDAR
VERSION:2.0
PRODID:-//Plone.org//NONSGML plone.app.event//EN
X-WR-TIMEZONE:Europe/Madrid
BEGIN:VEVENT
SUMMARY:Presentació del llibre Cabells de gebre. Per bruixa i metzinera amb l'autora, Teresa Sagrera
DTSTART;TZID=Europe/Madrid;VALUE=DATE-TIME:20220210T183000
DTEND;TZID=Europe/Madrid;VALUE=DATE-TIME:20220210T193000
DTSTAMP;VALUE=DATE-TIME:20260420T211248Z
UID:2c9d55325dbb2007d38314bcffeb2c72
CREATED;VALUE=DATE-TIME:20220210T000000Z
CATEGORIES:Literatura
LOCATION:Biblioteca l'Escorxador - Pg. de la Rectoria Vella, 10
DESCRIPTION:Tast de llibres. Sense inscripció prèvia
URL:https://www.santceloni.cat/document.php?id=27928
END:VEVENT
END:VCALENDAR