BEGIN:VCALENDAR
VERSION:2.0
PRODID:-//Plone.org//NONSGML plone.app.event//EN
X-WR-TIMEZONE:Europe/Madrid
BEGIN:VEVENT
SUMMARY:Cinema en català. Space Jam: Noves llegendes
DTSTART;TZID=Europe/Madrid;VALUE=DATE-TIME:20220205T160000
DTEND;TZID=Europe/Madrid;VALUE=DATE-TIME:20220205T170000
DTSTAMP;VALUE=DATE-TIME:20260420T194204Z
UID:3a87551ce8868ee8259823439e612916
CREATED;VALUE=DATE-TIME:20220205T000000Z
CATEGORIES:Cinema
LOCATION:Sales Ocine del Centre Comercial Altrium - Ctra. C-35 (Porta de ponent)
ORGANIZER:Direcció General de Política Lingüística
COMMENT:Preu: 4,50 
DESCRIPTION:Programació CINC-Cinema Infantil en Català
URL:https://www.santceloni.cat/document.php?id=27943
END:VEVENT
END:VCALENDAR