BEGIN:VCALENDAR
VERSION:2.0
PRODID:-//Plone.org//NONSGML plone.app.event//EN
X-WR-TIMEZONE:Europe/Madrid
BEGIN:VEVENT
SUMMARY:Cinema en català: Upsss! 2 I ara on és Noè?
DTSTART;TZID=Europe/Madrid;VALUE=DATE-TIME:20220212T160000
DTEND;TZID=Europe/Madrid;VALUE=DATE-TIME:20220212T170000
DTSTAMP;VALUE=DATE-TIME:20260425T190546Z
UID:169e1572619051d20507e1e13364c0d2
CREATED;VALUE=DATE-TIME:20220212T000000Z
CATEGORIES:Cinema
LOCATION:Sales Ocine del Centre Comercial Altrium - Ctra. C-35 (Porta de ponent)
ORGANIZER:Direcció General de Política Lingüística
COMMENT:Preu: 4,50 
DESCRIPTION:Programació CINC-Cinema Infantil en Català
URL:https://www.santceloni.cat/document.php?id=27944
END:VEVENT
END:VCALENDAR