BEGIN:VCALENDAR
VERSION:2.0
PRODID:-//Plone.org//NONSGML plone.app.event//EN
X-WR-TIMEZONE:Europe/Madrid
BEGIN:VEVENT
SUMMARY:Bibliolab. Vine a descobrir les propietats sorprenents dels materials
DTSTART;TZID=Europe/Madrid;VALUE=DATE-TIME:20220212T110000
DTEND;TZID=Europe/Madrid;VALUE=DATE-TIME:20220212T120000
DTSTAMP;VALUE=DATE-TIME:20260425T213639Z
UID:8602c7a44b43def07de07717732d99ac
CREATED;VALUE=DATE-TIME:20220212T000000Z
CATEGORIES:Infantils
LOCATION:Biblioteca l'Escorxador - Pg. de la Rectoria Vella, 10
ORGANIZER:Biblioteca l'Escorxador
DESCRIPTION:Cal inscripció prèvia
URL:https://www.santceloni.cat/document.php?id=27975
END:VEVENT
END:VCALENDAR